BEGIN:VCALENDAR
VERSION:2.0
PRODID:-//Fig Garden String Quartet • Fresno Based Musicians - ECPv6.15.20//NONSGML v1.0//EN
CALSCALE:GREGORIAN
METHOD:PUBLISH
X-WR-CALNAME:Fig Garden String Quartet • Fresno Based Musicians
X-ORIGINAL-URL:https://www.figgardenquartet.com
X-WR-CALDESC:Events for Fig Garden String Quartet • Fresno Based Musicians
REFRESH-INTERVAL;VALUE=DURATION:PT1H
X-Robots-Tag:noindex
X-PUBLISHED-TTL:PT1H
BEGIN:VTIMEZONE
TZID:UTC
BEGIN:STANDARD
TZOFFSETFROM:+0000
TZOFFSETTO:+0000
TZNAME:UTC
DTSTART:20250101T000000
END:STANDARD
END:VTIMEZONE
BEGIN:VEVENT
DTSTART;TZID=UTC:20260425T190000
DTEND;TZID=UTC:20260425T200000
DTSTAMP:20260421T091105
CREATED:20260407T150223Z
LAST-MODIFIED:20260407T150223Z
UID:3024-1777143600-1777147200@www.figgardenquartet.com
SUMMARY:Candlelight: Best of Bridgerton on Strings
DESCRIPTION:🌹 After captivating millions of Bridgerton fans worldwide\, Candlelight: Best of Bridgerton on Strings is making its grand return to Fresno! Dearest reader\, Lady Whistledown extends an exclusive invitation to a most enchanting affair. Surrounded by the soft glow of candlelight\, listen to your favorite melodies from Shondaland’s hit series on Netflix\, reimagined by a talented string ensemble. Will you be among society’s most fortunate to attend? Get your tickets today!\n   \n  General Info\n📍 Venue: The Grand 1401\n📅 Dates and times: select your dates/times directly in the ticket selector\n⏳ Duration: 60 minutes. Doors open 60 minutes before the show and  close 5 minutes prior to the start. Late arrivals will not be permitted\n👤 Age requirement: 8 years old or older. Anyone under the age of 16 must be accompanied by an adult\n♿ Accessibility: this venue is ADA compliant\n❓ View the FAQs for this event  here\n🪑 Seating is assigned on a first come first served basis in each zone\n🕯️ If you would like to book a private concert or buy regular tickets for a large group (+30 people)\, click  here\n🎻 Check out all the  Candlelight concerts  in Fresno\n🎁 To treat your friends and family to a Candlelight gift card\, click  here\n👗 Dear guest\, there’s no strict dress code for this special occasion\, but we encourage you to dress in your finest Bridgerton-inspired style!  \n  Program – Top hits from the acclaimed Shondaland series on Netflix   \n  Performers   \n	 String Quartet – Listeso – Fresno  \n  Seating Map   \nEvent Details\n\nVenue: The Grand 1401\nCity: Fresno\nShowtimes: 8:30p\nPerformers: String Quartet – Listeso – Fresno\nTickets: From $38.88\n\nBuy Tickets  |  Get a Quote
URL:https://www.figgardenquartet.com/concert/candlelight-best-of-bridgerton-on-strings/
LOCATION:The Grand 1401\, Fresno\, CA\, US
END:VEVENT
END:VCALENDAR